Package: OTUbase Version: 1.56.0 Command: /home/biocbuild/bbs-3.20-bioc/R/bin/R CMD check --install=check:OTUbase.install-out.txt --library=/home/biocbuild/bbs-3.20-bioc/R/site-library --timings OTUbase_1.56.0.tar.gz StartedAt: 2025-02-04 00:56:44 -0500 (Tue, 04 Feb 2025) EndedAt: 2025-02-04 01:02:30 -0500 (Tue, 04 Feb 2025) EllapsedTime: 345.6 seconds RetCode: 0 Status: OK CheckDir: OTUbase.Rcheck Warnings: 0