Package: OTUbase Version: 1.56.0 Command: /home/biocbuild/bbs-3.20-bioc/R/bin/R CMD INSTALL OTUbase StartedAt: 2025-02-03 15:39:30 -0500 (Mon, 03 Feb 2025) EndedAt: 2025-02-03 15:39:59 -0500 (Mon, 03 Feb 2025) EllapsedTime: 29.6 seconds RetCode: 0 Status: OK