Package: OTUbase
Version: 1.55.0
Command: F:\biocbuild\bbs-3.20-bioc\R\bin\R.exe CMD INSTALL OTUbase
StartedAt: 2024-06-09 16:17:38 -0400 (Sun, 09 Jun 2024)
EndedAt: 2024-06-09 16:18:27 -0400 (Sun, 09 Jun 2024)
EllapsedTime: 49.4 seconds
RetCode: 0
Status: OK