Package: OTUbase Version: 1.56.0 Command: /home/biocbuild/R/R/bin/R CMD INSTALL OTUbase StartedAt: 2025-02-03 20:47:39 -0000 (Mon, 03 Feb 2025) EndedAt: 2025-02-03 20:48:19 -0000 (Mon, 03 Feb 2025) EllapsedTime: 40.5 seconds RetCode: 0 Status: OK