Package: OUTRIDER Version: 1.24.0 Command: /Library/Frameworks/R.framework/Resources/bin/R CMD INSTALL OUTRIDER StartedAt: 2025-02-03 17:42:06 -0500 (Mon, 03 Feb 2025) EndedAt: 2025-02-03 17:43:10 -0500 (Mon, 03 Feb 2025) EllapsedTime: 63.7 seconds RetCode: 0 Status: OK