Package: OUTRIDER Version: 1.24.0 Command: /Library/Frameworks/R.framework/Resources/bin/R CMD build --keep-empty-dirs --no-resave-data OUTRIDER StartedAt: 2025-02-03 21:03:45 -0500 (Mon, 03 Feb 2025) EndedAt: 2025-02-03 21:17:45 -0500 (Mon, 03 Feb 2025) EllapsedTime: 839.6 seconds RetCode: 0 Status: OK PackageFile: OUTRIDER_1.24.0.tar.gz PackageFileSize: 2.49 MiB