Package: OUTRIDER Version: 1.24.0 Command: /home/biocbuild/R/R/bin/R CMD build --keep-empty-dirs --no-resave-data OUTRIDER StartedAt: 2025-02-04 01:41:08 -0000 (Tue, 04 Feb 2025) EndedAt: 2025-02-04 01:48:13 -0000 (Tue, 04 Feb 2025) EllapsedTime: 425.6 seconds RetCode: 0 Status: OK PackageFile: OUTRIDER_1.24.0.tar.gz PackageFileSize: 1.933 MiB