Package: OUTRIDER Version: 1.24.0 Command: /home/biocbuild/R/R/bin/R CMD check --install=check:OUTRIDER.install-out.txt --library=/home/biocbuild/R/R/site-library --no-vignettes --timings OUTRIDER_1.24.0.tar.gz StartedAt: 2025-02-04 09:37:26 -0000 (Tue, 04 Feb 2025) EndedAt: 2025-02-04 09:47:58 -0000 (Tue, 04 Feb 2025) EllapsedTime: 632.2 seconds RetCode: 0 Status: OK CheckDir: OUTRIDER.Rcheck Warnings: 0