Package: OVESEG Version: 1.22.0 Command: rm -rf OVESEG.buildbin-libdir && mkdir OVESEG.buildbin-libdir && /Users/biocbuild/BBS/utils/build-universal.sh OVESEG_1.22.0.tar.gz /Library/Frameworks/R.framework/Resources/bin/R OVESEG.buildbin-libdir StartedAt: 2025-02-05 17:03:35 -0500 (Wed, 05 Feb 2025) EndedAt: 2025-02-05 17:03:55 -0500 (Wed, 05 Feb 2025) EllapsedTime: 20.1 seconds RetCode: 0 Status: OK PackageFile: OVESEG_1.22.0.tgz PackageFileSize: 873.9 KiB