Package: OVESEG Version: 1.22.0 Command: /Library/Frameworks/R.framework/Resources/bin/R CMD check --install=check:OVESEG.install-out.txt --library=/Library/Frameworks/R.framework/Resources/library --no-vignettes --timings OVESEG_1.22.0.tar.gz StartedAt: 2025-02-12 04:12:11 -0500 (Wed, 12 Feb 2025) EndedAt: 2025-02-12 04:13:36 -0500 (Wed, 12 Feb 2025) EllapsedTime: 85.1 seconds RetCode: 0 Status: OK CheckDir: OVESEG.Rcheck Warnings: 0