Package: OVESEG Version: 1.22.0 Command: /Library/Frameworks/R.framework/Resources/bin/R CMD INSTALL OVESEG StartedAt: 2025-02-03 15:43:18 -0500 (Mon, 03 Feb 2025) EndedAt: 2025-02-03 15:43:27 -0500 (Mon, 03 Feb 2025) EllapsedTime: 8.7 seconds RetCode: 0 Status: OK