Package: OVESEG Version: 1.22.0 Command: rm -rf OVESEG.buildbin-libdir && mkdir OVESEG.buildbin-libdir && F:\biocbuild\bbs-3.20-bioc\R\bin\R.exe CMD INSTALL --build --library=OVESEG.buildbin-libdir OVESEG_1.22.0.tar.gz StartedAt: 2025-02-04 09:07:49 -0500 (Tue, 04 Feb 2025) EndedAt: 2025-02-04 09:08:19 -0500 (Tue, 04 Feb 2025) EllapsedTime: 29.3 seconds RetCode: 0 Status: OK PackageFile: OVESEG_1.22.0.zip PackageFileSize: 1.132 MiB