Package: OVESEG Version: 1.22.0 Command: /home/biocbuild/R/R/bin/R CMD build --keep-empty-dirs --no-resave-data OVESEG StartedAt: 2025-02-04 01:41:29 -0000 (Tue, 04 Feb 2025) EndedAt: 2025-02-04 01:49:39 -0000 (Tue, 04 Feb 2025) EllapsedTime: 489.7 seconds RetCode: 0 Status: OK PackageFile: OVESEG_1.22.0.tar.gz PackageFileSize: 791.5 KiB