Package: OmaDB Version: 2.22.0 Command: /Library/Frameworks/R.framework/Resources/bin/R CMD build --keep-empty-dirs --no-resave-data OmaDB StartedAt: 2025-02-04 04:53:34 -0500 (Tue, 04 Feb 2025) EndedAt: 2025-02-04 04:54:03 -0500 (Tue, 04 Feb 2025) EllapsedTime: 29.4 seconds RetCode: 0 Status: OK PackageFile: OmaDB_2.22.0.tar.gz PackageFileSize: 98.18 KiB