Package: OmaDB
Version: 2.22.0
Command: /home/biocbuild/R/R/bin/R CMD INSTALL OmaDB
StartedAt: 2024-11-19 21:26:22 -0000 (Tue, 19 Nov 2024)
EndedAt: 2024-11-19 21:26:45 -0000 (Tue, 19 Nov 2024)
EllapsedTime: 22.3 seconds
RetCode: 0
Status: OK