Package: OmaDB Version: 2.22.0 Command: /Library/Frameworks/R.framework/Resources/bin/R CMD build --keep-empty-dirs --no-resave-data OmaDB StartedAt: 2025-02-03 20:57:55 -0500 (Mon, 03 Feb 2025) EndedAt: 2025-02-03 20:58:45 -0500 (Mon, 03 Feb 2025) EllapsedTime: 50.3 seconds RetCode: 0 Status: OK PackageFile: OmaDB_2.22.0.tar.gz PackageFileSize: 98.16 KiB