Package: OmaDB Version: 2.22.0 Command: /Library/Frameworks/R.framework/Resources/bin/R CMD INSTALL OmaDB StartedAt: 2025-02-03 16:39:58 -0500 (Mon, 03 Feb 2025) EndedAt: 2025-02-03 16:40:33 -0500 (Mon, 03 Feb 2025) EllapsedTime: 35.2 seconds RetCode: 0 Status: OK