Package: OmaDB Version: 2.22.0 Command: chmod a+r OmaDB -R && F:\biocbuild\bbs-3.20-bioc\R\bin\R.exe CMD build --keep-empty-dirs --no-resave-data OmaDB StartedAt: 2025-02-03 20:52:55 -0500 (Mon, 03 Feb 2025) EndedAt: 2025-02-03 20:53:33 -0500 (Mon, 03 Feb 2025) EllapsedTime: 38.6 seconds RetCode: 0 Status: OK PackageFile: OmaDB_2.22.0.tar.gz PackageFileSize: 98.31 KiB