Package: OmaDB Version: 2.22.0 Command: /home/biocbuild/R/R/bin/R CMD build --keep-empty-dirs --no-resave-data OmaDB StartedAt: 2025-02-04 01:31:05 -0000 (Tue, 04 Feb 2025) EndedAt: 2025-02-04 01:31:39 -0000 (Tue, 04 Feb 2025) EllapsedTime: 34.1 seconds RetCode: 0 Status: OK PackageFile: OmaDB_2.22.0.tar.gz PackageFileSize: 98.82 KiB