Package: OmaDB
Version: 2.22.0
Command: /home/biocbuild/bbs-3.20-bioc/R/bin/R CMD check --install=check:OmaDB.install-out.txt --library=/home/biocbuild/bbs-3.20-bioc/R/site-library --timings OmaDB_2.22.0.tar.gz
StartedAt: 2024-11-20 06:52:07 -0500 (Wed, 20 Nov 2024)
EndedAt: 2024-11-20 06:58:12 -0500 (Wed, 20 Nov 2024)
EllapsedTime: 365.6 seconds
RetCode: 0
Status: OK
CheckDir: OmaDB.Rcheck
Warnings: 0