Package: OmicsMLRepoR Version: 1.0.0 Command: /Library/Frameworks/R.framework/Resources/bin/R CMD build --keep-empty-dirs --no-resave-data OmicsMLRepoR StartedAt: 2025-02-04 04:54:40 -0500 (Tue, 04 Feb 2025) EndedAt: 2025-02-04 04:56:42 -0500 (Tue, 04 Feb 2025) EllapsedTime: 121.9 seconds RetCode: 0 Status: OK PackageFile: OmicsMLRepoR_1.0.0.tar.gz PackageFileSize: 425.7 KiB