Package: OmicsMLRepoR Version: 1.0.0 Command: /Library/Frameworks/R.framework/Resources/bin/R CMD build --keep-empty-dirs --no-resave-data OmicsMLRepoR StartedAt: 2025-02-03 20:58:36 -0500 (Mon, 03 Feb 2025) EndedAt: 2025-02-03 21:01:51 -0500 (Mon, 03 Feb 2025) EllapsedTime: 194.6 seconds RetCode: 0 Status: OK PackageFile: OmicsMLRepoR_1.0.0.tar.gz PackageFileSize: 425.6 KiB