Package: OmicsMLRepoR Version: 1.0.0 Command: /Library/Frameworks/R.framework/Resources/bin/R CMD check --install=check:OmicsMLRepoR.install-out.txt --library=/Library/Frameworks/R.framework/Resources/library --no-vignettes --timings OmicsMLRepoR_1.0.0.tar.gz StartedAt: 2025-02-04 07:26:39 -0500 (Tue, 04 Feb 2025) EndedAt: 2025-02-04 07:29:30 -0500 (Tue, 04 Feb 2025) EllapsedTime: 171.1 seconds RetCode: 0 Status: OK CheckDir: OmicsMLRepoR.Rcheck Warnings: 0