Package: OmicsMLRepoR Version: 1.0.0 Command: /home/biocbuild/bbs-3.20-bioc/R/bin/R CMD check --install=check:OmicsMLRepoR.install-out.txt --library=/home/biocbuild/bbs-3.20-bioc/R/site-library --timings OmicsMLRepoR_1.0.0.tar.gz StartedAt: 2025-02-04 00:50:01 -0500 (Tue, 04 Feb 2025) EndedAt: 2025-02-04 00:52:58 -0500 (Tue, 04 Feb 2025) EllapsedTime: 177.2 seconds RetCode: 0 Status: OK CheckDir: OmicsMLRepoR.Rcheck Warnings: 0