Package: OmicsMLRepoR Version: 1.0.0 Command: /home/biocbuild/bbs-3.20-bioc/R/bin/R CMD INSTALL OmicsMLRepoR StartedAt: 2025-02-10 15:37:34 -0500 (Mon, 10 Feb 2025) EndedAt: 2025-02-10 15:37:41 -0500 (Mon, 10 Feb 2025) EllapsedTime: 6.7 seconds RetCode: 0 Status: OK