Package: OmicsMLRepoR Version: 1.0.0 Command: rm -rf OmicsMLRepoR.buildbin-libdir && mkdir OmicsMLRepoR.buildbin-libdir && F:\biocbuild\bbs-3.20-bioc\R\bin\R.exe CMD INSTALL --build --library=OmicsMLRepoR.buildbin-libdir OmicsMLRepoR_1.0.0.tar.gz StartedAt: 2025-02-04 09:05:51 -0500 (Tue, 04 Feb 2025) EndedAt: 2025-02-04 09:06:41 -0500 (Tue, 04 Feb 2025) EllapsedTime: 50.4 seconds RetCode: 0 Status: OK PackageFile: OmicsMLRepoR_1.0.0.zip PackageFileSize: 313.1 KiB