Package: OmicsMLRepoR Version: 1.0.0 Command: chmod a+r OmicsMLRepoR -R && F:\biocbuild\bbs-3.20-bioc\R\bin\R.exe CMD build --keep-empty-dirs --no-resave-data OmicsMLRepoR StartedAt: 2025-02-03 20:53:24 -0500 (Mon, 03 Feb 2025) EndedAt: 2025-02-03 20:55:42 -0500 (Mon, 03 Feb 2025) EllapsedTime: 138.1 seconds RetCode: 0 Status: OK PackageFile: OmicsMLRepoR_1.0.0.tar.gz PackageFileSize: 425.9 KiB