Package: OmicsMLRepoR Version: 1.0.0 Command: /home/biocbuild/R/R/bin/R CMD build --keep-empty-dirs --no-resave-data OmicsMLRepoR StartedAt: 2025-02-04 01:31:55 -0000 (Tue, 04 Feb 2025) EndedAt: 2025-02-04 01:34:37 -0000 (Tue, 04 Feb 2025) EllapsedTime: 162.2 seconds RetCode: 0 Status: OK PackageFile: OmicsMLRepoR_1.0.0.tar.gz PackageFileSize: 454 KiB