Package: OmicsMLRepoR Version: 1.0.0 Command: /home/biocbuild/R/R/bin/R CMD check --install=check:OmicsMLRepoR.install-out.txt --library=/home/biocbuild/R/R/site-library --no-vignettes --timings OmicsMLRepoR_1.0.0.tar.gz StartedAt: 2025-02-04 09:29:33 -0000 (Tue, 04 Feb 2025) EndedAt: 2025-02-04 09:31:54 -0000 (Tue, 04 Feb 2025) EllapsedTime: 141.2 seconds RetCode: 0 Status: OK CheckDir: OmicsMLRepoR.Rcheck Warnings: 0