Package: Omixer Version: 1.16.0 Command: /home/biocbuild/bbs-3.20-bioc/R/bin/R CMD INSTALL Omixer StartedAt: 2025-02-03 15:21:58 -0500 (Mon, 03 Feb 2025) EndedAt: 2025-02-03 15:22:02 -0500 (Mon, 03 Feb 2025) EllapsedTime: 3.7 seconds RetCode: 0 Status: OK