Package: Omixer Version: 1.16.0 Command: /home/biocbuild/R/R/bin/R CMD check --install=check:Omixer.install-out.txt --library=/home/biocbuild/R/R/site-library --no-vignettes --timings Omixer_1.16.0.tar.gz StartedAt: 2025-02-04 09:31:09 -0000 (Tue, 04 Feb 2025) EndedAt: 2025-02-04 09:31:56 -0000 (Tue, 04 Feb 2025) EllapsedTime: 47.1 seconds RetCode: 0 Status: OK CheckDir: Omixer.Rcheck Warnings: 0