Package: OmnipathR
Version: 3.14.0
Command: /Library/Frameworks/R.framework/Resources/bin/R CMD check --install=check:OmnipathR.install-out.txt --library=/Library/Frameworks/R.framework/Resources/library --no-vignettes --timings OmnipathR_3.14.0.tar.gz
StartedAt: 2025-02-19 03:44:38 -0500 (Wed, 19 Feb 2025)
EndedAt: 2025-02-19 03:48:53 -0500 (Wed, 19 Feb 2025)
EllapsedTime: 254.9 seconds
RetCode: 1
Status: ERROR
CheckDir: OmnipathR.Rcheck
Warnings: NA