Package: OmnipathR
Version: 3.14.0
Command: /Library/Frameworks/R.framework/Resources/bin/R CMD build --keep-empty-dirs --no-resave-data OmnipathR
StartedAt: 2024-11-19 17:57:31 -0500 (Tue, 19 Nov 2024)
EndedAt: 2024-11-19 18:11:18 -0500 (Tue, 19 Nov 2024)
EllapsedTime: 826.7 seconds
RetCode: 1
Status: ERROR
PackageFile: None
PackageFileSize: NA