Package: OmnipathR Version: 3.14.0 Command: /Library/Frameworks/R.framework/Resources/bin/R CMD build --keep-empty-dirs --no-resave-data OmnipathR StartedAt: 2025-02-03 20:59:08 -0500 (Mon, 03 Feb 2025) EndedAt: 2025-02-03 21:26:35 -0500 (Mon, 03 Feb 2025) EllapsedTime: 1647.5 seconds RetCode: 0 Status: OK PackageFile: OmnipathR_3.14.0.tar.gz PackageFileSize: 3.579 MiB