Package: OmnipathR Version: 3.14.0 Command: /home/biocbuild/bbs-3.20-bioc/R/bin/R CMD check --install=check:OmnipathR.install-out.txt --library=/home/biocbuild/bbs-3.20-bioc/R/site-library --timings OmnipathR_3.14.0.tar.gz StartedAt: 2025-01-31 00:40:53 -0500 (Fri, 31 Jan 2025) EndedAt: 2025-01-31 01:04:37 -0500 (Fri, 31 Jan 2025) EllapsedTime: 1423.9 seconds RetCode: 1 Status: ERROR CheckDir: OmnipathR.Rcheck Warnings: NA