Package: OmnipathR Version: 3.14.0 Command: /home/biocbuild/bbs-3.20-bioc/R/bin/R CMD INSTALL OmnipathR StartedAt: 2025-01-30 15:34:56 -0500 (Thu, 30 Jan 2025) EndedAt: 2025-01-30 15:35:13 -0500 (Thu, 30 Jan 2025) EllapsedTime: 16.9 seconds RetCode: 0 Status: OK