Package: OmnipathR Version: 3.14.0 Command: rm -rf OmnipathR.buildbin-libdir && mkdir OmnipathR.buildbin-libdir && F:\biocbuild\bbs-3.20-bioc\R\bin\R.exe CMD INSTALL --build --library=OmnipathR.buildbin-libdir OmnipathR_3.14.0.tar.gz StartedAt: 2025-01-31 09:12:47 -0500 (Fri, 31 Jan 2025) EndedAt: 2025-01-31 09:15:09 -0500 (Fri, 31 Jan 2025) EllapsedTime: 142.3 seconds RetCode: 0 Status: OK PackageFile: OmnipathR_3.14.0.zip PackageFileSize: 3.234 MiB