Package: OmnipathR Version: 3.14.0 Command: chmod a+r OmnipathR -R && F:\biocbuild\bbs-3.20-bioc\R\bin\R.exe CMD build --keep-empty-dirs --no-resave-data OmnipathR StartedAt: 2025-01-30 20:38:37 -0500 (Thu, 30 Jan 2025) EndedAt: 2025-01-30 20:55:11 -0500 (Thu, 30 Jan 2025) EllapsedTime: 994.2 seconds RetCode: 0 Status: OK PackageFile: OmnipathR_3.14.0.tar.gz PackageFileSize: 3.189 MiB