Package: OmnipathR Version: 3.14.0 Command: /home/biocbuild/R/R/bin/R CMD INSTALL OmnipathR StartedAt: 2025-02-03 20:57:59 -0000 (Mon, 03 Feb 2025) EndedAt: 2025-02-03 20:58:21 -0000 (Mon, 03 Feb 2025) EllapsedTime: 22.3 seconds RetCode: 0 Status: OK