Package: OncoScore Version: 1.34.0 Command: rm -rf OncoScore.buildbin-libdir && mkdir OncoScore.buildbin-libdir && /Users/biocbuild/BBS/utils/build-universal.sh OncoScore_1.34.0.tar.gz /Library/Frameworks/R.framework/Resources/bin/R OncoScore.buildbin-libdir StartedAt: 2025-02-01 16:05:41 -0500 (Sat, 01 Feb 2025) EndedAt: 2025-02-01 16:06:02 -0500 (Sat, 01 Feb 2025) EllapsedTime: 20.2 seconds RetCode: 0 Status: OK PackageFile: OncoScore_1.34.0.tgz PackageFileSize: 969.5 KiB