Package: OncoScore Version: 1.34.0 Command: /Library/Frameworks/R.framework/Resources/bin/R CMD build --keep-empty-dirs --no-resave-data OncoScore StartedAt: 2025-02-04 04:58:42 -0500 (Tue, 04 Feb 2025) EndedAt: 2025-02-04 05:00:44 -0500 (Tue, 04 Feb 2025) EllapsedTime: 121.9 seconds RetCode: 1 Status: ERROR PackageFile: None PackageFileSize: NA