Package: OncoScore Version: 1.34.0 Command: rm -rf OncoScore.buildbin-libdir && mkdir OncoScore.buildbin-libdir && /Users/biocbuild/BBS/utils/build-universal.sh OncoScore_1.34.0.tar.gz /Library/Frameworks/R.framework/Resources/bin/R OncoScore.buildbin-libdir StartedAt: 2025-02-04 13:41:15 -0500 (Tue, 04 Feb 2025) EndedAt: 2025-02-04 13:42:15 -0500 (Tue, 04 Feb 2025) EllapsedTime: 60.3 seconds RetCode: 0 Status: OK PackageFile: OncoScore_1.34.0.tgz PackageFileSize: 969.9 KiB