Package: OncoScore Version: 1.34.0 Command: /Library/Frameworks/R.framework/Resources/bin/R CMD build --keep-empty-dirs --no-resave-data OncoScore StartedAt: 2025-02-03 20:59:45 -0500 (Mon, 03 Feb 2025) EndedAt: 2025-02-03 21:01:13 -0500 (Mon, 03 Feb 2025) EllapsedTime: 88.0 seconds RetCode: 0 Status: OK PackageFile: OncoScore_1.34.0.tar.gz PackageFileSize: 916.7 KiB