Package: OncoScore Version: 1.34.0 Command: /Library/Frameworks/R.framework/Resources/bin/R CMD check --install=check:OncoScore.install-out.txt --library=/Library/Frameworks/R.framework/Resources/library --no-vignettes --timings OncoScore_1.34.0.tar.gz StartedAt: 2025-02-04 07:29:40 -0500 (Tue, 04 Feb 2025) EndedAt: 2025-02-04 07:33:16 -0500 (Tue, 04 Feb 2025) EllapsedTime: 215.5 seconds RetCode: 0 Status: OK CheckDir: OncoScore.Rcheck Warnings: 0