Package: OncoScore Version: 1.34.0 Command: /Library/Frameworks/R.framework/Resources/bin/R CMD INSTALL OncoScore StartedAt: 2025-02-03 15:54:58 -0500 (Mon, 03 Feb 2025) EndedAt: 2025-02-03 15:55:31 -0500 (Mon, 03 Feb 2025) EllapsedTime: 32.5 seconds RetCode: 0 Status: OK