Package: OncoScore Version: 1.34.0 Command: /home/biocbuild/bbs-3.20-bioc/R/bin/R CMD build --keep-empty-dirs --no-resave-data --md5 OncoScore StartedAt: 2025-02-03 18:34:34 -0500 (Mon, 03 Feb 2025) EndedAt: 2025-02-03 18:35:25 -0500 (Mon, 03 Feb 2025) EllapsedTime: 51.1 seconds RetCode: 0 Status: OK PackageFile: OncoScore_1.34.0.tar.gz PackageFileSize: 910.9 KiB