Package: OncoScore Version: 1.34.0 Command: /home/biocbuild/bbs-3.20-bioc/R/bin/R CMD check --install=check:OncoScore.install-out.txt --library=/home/biocbuild/bbs-3.20-bioc/R/site-library --timings OncoScore_1.34.0.tar.gz StartedAt: 2025-02-04 00:51:45 -0500 (Tue, 04 Feb 2025) EndedAt: 2025-02-04 00:53:59 -0500 (Tue, 04 Feb 2025) EllapsedTime: 134.1 seconds RetCode: 0 Status: OK CheckDir: OncoScore.Rcheck Warnings: 0