Package: OncoScore Version: 1.34.0 Command: chmod a+r OncoScore -R && F:\biocbuild\bbs-3.20-bioc\R\bin\R.exe CMD build --keep-empty-dirs --no-resave-data OncoScore StartedAt: 2025-02-03 20:55:03 -0500 (Mon, 03 Feb 2025) EndedAt: 2025-02-03 20:56:18 -0500 (Mon, 03 Feb 2025) EllapsedTime: 75.7 seconds RetCode: 0 Status: OK PackageFile: OncoScore_1.34.0.tar.gz PackageFileSize: 658.2 KiB