Package: OncoScore Version: 1.34.0 Command: /home/biocbuild/R/R/bin/R CMD INSTALL OncoScore StartedAt: 2025-02-03 20:50:13 -0000 (Mon, 03 Feb 2025) EndedAt: 2025-02-03 20:50:32 -0000 (Mon, 03 Feb 2025) EllapsedTime: 18.3 seconds RetCode: 0 Status: OK