Package: OncoScore Version: 1.34.0 Command: /home/biocbuild/bbs-3.20-bioc/R/bin/R CMD check --install=check:OncoScore.install-out.txt --library=/home/biocbuild/bbs-3.20-bioc/R/site-library --timings OncoScore_1.34.0.tar.gz StartedAt: 2024-11-20 06:57:56 -0500 (Wed, 20 Nov 2024) EndedAt: 2024-11-20 06:59:52 -0500 (Wed, 20 Nov 2024) EllapsedTime: 116.1 seconds RetCode: 0 Status: OK CheckDir: OncoScore.Rcheck Warnings: 0